BEGIN:VCALENDAR
VERSION:2.0
PRODID:-//Dock &amp; Paddle | Como Lakeside Pavilion - ECPv6.15.17.1//NONSGML v1.0//EN
CALSCALE:GREGORIAN
METHOD:PUBLISH
X-ORIGINAL-URL:https://dockandpaddle.com
X-WR-CALDESC:Events for Dock &amp; Paddle | Como Lakeside Pavilion
REFRESH-INTERVAL;VALUE=DURATION:PT1H
X-Robots-Tag:noindex
X-PUBLISHED-TTL:PT1H
BEGIN:VTIMEZONE
TZID:America/Chicago
BEGIN:DAYLIGHT
TZOFFSETFROM:-0600
TZOFFSETTO:-0500
TZNAME:CDT
DTSTART:20250309T080000
END:DAYLIGHT
BEGIN:STANDARD
TZOFFSETFROM:-0500
TZOFFSETTO:-0600
TZNAME:CST
DTSTART:20251102T070000
END:STANDARD
BEGIN:DAYLIGHT
TZOFFSETFROM:-0600
TZOFFSETTO:-0500
TZNAME:CDT
DTSTART:20260308T080000
END:DAYLIGHT
BEGIN:STANDARD
TZOFFSETFROM:-0500
TZOFFSETTO:-0600
TZNAME:CST
DTSTART:20261101T070000
END:STANDARD
BEGIN:DAYLIGHT
TZOFFSETFROM:-0600
TZOFFSETTO:-0500
TZNAME:CDT
DTSTART:20270314T080000
END:DAYLIGHT
BEGIN:STANDARD
TZOFFSETFROM:-0500
TZOFFSETTO:-0600
TZNAME:CST
DTSTART:20271107T070000
END:STANDARD
END:VTIMEZONE
BEGIN:VEVENT
DTSTART;TZID=America/Chicago:20260608T190000
DTEND;TZID=America/Chicago:20260608T210000
DTSTAMP:20260423T212301
CREATED:20260212T160105Z
LAST-MODIFIED:20260212T160105Z
UID:10000069-1780945200-1780952400@dockandpaddle.com
SUMMARY:SouthSide Big Band
DESCRIPTION:SouthSide Big Band
URL:https://dockandpaddle.com/event/southside-big-band/
LOCATION:Dock & Paddle\, 1360 Lexington Parkway North\, Saint Paul\, MN\, 55103\, United States
ATTACH;FMTTYPE=image/jpeg:https://dockandpaddle.com/wp-content/uploads/music-events/southside-big-band.jpg
END:VEVENT
BEGIN:VEVENT
DTSTART;TZID=America/Chicago:20260609T180000
DTEND;TZID=America/Chicago:20260609T200000
DTSTAMP:20260423T212301
CREATED:20260212T160052Z
LAST-MODIFIED:20260219T175541Z
UID:10000070-1781028000-1781035200@dockandpaddle.com
SUMMARY:Dee Langley and the Masked Accordions
DESCRIPTION:Dee Langley and the Masked Accordions
URL:https://dockandpaddle.com/event/dee-langley-and-the-masked-accordions/
LOCATION:Dock & Paddle\, 1360 Lexington Parkway North\, Saint Paul\, MN\, 55103\, United States
ATTACH;FMTTYPE=image/jpeg:https://dockandpaddle.com/wp-content/uploads/music-events/masked-accordians-1.jpg
END:VEVENT
BEGIN:VEVENT
DTSTART;TZID=America/Chicago:20260610T183000
DTEND;TZID=America/Chicago:20260610T203000
DTSTAMP:20260423T212301
CREATED:20260212T160039Z
LAST-MODIFIED:20260212T160039Z
UID:10000071-1781116200-1781123400@dockandpaddle.com
SUMMARY:Hopkins Westwind Big Band
DESCRIPTION:Hopkins Westwind Big Band
URL:https://dockandpaddle.com/event/hopkins-westwind-big-band/
LOCATION:Dock & Paddle\, 1360 Lexington Parkway North\, Saint Paul\, MN\, 55103\, United States
ATTACH;FMTTYPE=image/jpeg:https://dockandpaddle.com/wp-content/uploads/music-events/westwind-big-band-1.jpg
END:VEVENT
BEGIN:VEVENT
DTSTART;TZID=America/Chicago:20260612T190000
DTEND;TZID=America/Chicago:20260612T210000
DTSTAMP:20260423T212301
CREATED:20260309T190734Z
LAST-MODIFIED:20260309T190734Z
UID:10000152-1781290800-1781298000@dockandpaddle.com
SUMMARY:Legacy
DESCRIPTION:Legacy Irish Band
URL:https://dockandpaddle.com/event/legacy/
LOCATION:Dock & Paddle\, 1360 Lexington Parkway North\, Saint Paul\, MN\, 55103\, United States
ATTACH;FMTTYPE=image/jpeg:https://dockandpaddle.com/wp-content/uploads/music-events/legacy-Irish-Band.jpg
END:VEVENT
BEGIN:VEVENT
DTSTART;TZID=America/Chicago:20260614T150000
DTEND;TZID=America/Chicago:20260614T170000
DTSTAMP:20260423T212301
CREATED:20260212T155002Z
LAST-MODIFIED:20260219T200619Z
UID:10000117-1781449200-1781456400@dockandpaddle.com
SUMMARY:St. Louis Park Community Band
DESCRIPTION:St. Louis Park Community Band
URL:https://dockandpaddle.com/event/st-louis-park-community-band/
LOCATION:Dock & Paddle\, 1360 Lexington Parkway North\, Saint Paul\, MN\, 55103\, United States
ATTACH;FMTTYPE=image/png:https://dockandpaddle.com/wp-content/uploads/2025/11/dock-and-paddle-logo-2X.png
END:VEVENT
BEGIN:VEVENT
DTSTART;TZID=America/Chicago:20260614T190000
DTEND;TZID=America/Chicago:20260614T210000
DTSTAMP:20260423T212301
CREATED:20260212T155950Z
LAST-MODIFIED:20260212T155950Z
UID:10000075-1781463600-1781470800@dockandpaddle.com
SUMMARY:The RLB Band
DESCRIPTION:The RLB Band
URL:https://dockandpaddle.com/event/the-rlb-band/
LOCATION:Dock & Paddle\, 1360 Lexington Parkway North\, Saint Paul\, MN\, 55103\, United States
ATTACH;FMTTYPE=image/jpeg:https://dockandpaddle.com/wp-content/uploads/music-events/rlb-como-stage-view-2023.jpg
END:VEVENT
BEGIN:VEVENT
DTSTART;TZID=America/Chicago:20260615T190000
DTEND;TZID=America/Chicago:20260615T210000
DTSTAMP:20260423T212301
CREATED:20260212T155938Z
LAST-MODIFIED:20260212T155938Z
UID:10000076-1781550000-1781557200@dockandpaddle.com
SUMMARY:Northern Winds Concert Band
DESCRIPTION:Northern Winds Concert Band
URL:https://dockandpaddle.com/event/northern-winds-concert-band/
LOCATION:Dock & Paddle\, 1360 Lexington Parkway North\, Saint Paul\, MN\, 55103\, United States
ATTACH;FMTTYPE=image/jpeg:https://dockandpaddle.com/wp-content/uploads/music-events/nwbandlogo-small.jpg
END:VEVENT
BEGIN:VEVENT
DTSTART;TZID=America/Chicago:20260616T190000
DTEND;TZID=America/Chicago:20260616T210000
DTSTAMP:20260423T212301
CREATED:20260212T155925Z
LAST-MODIFIED:20260212T155925Z
UID:10000077-1781636400-1781643600@dockandpaddle.com
SUMMARY:City Of Lakes Community Band
DESCRIPTION:City of Lakes Community Band
URL:https://dockandpaddle.com/event/city-of-lakes-community-band/
LOCATION:Dock & Paddle\, 1360 Lexington Parkway North\, Saint Paul\, MN\, 55103\, United States
ATTACH;FMTTYPE=image/jpeg:https://dockandpaddle.com/wp-content/uploads/music-events/City-of-Lakes-Community-Band.jpg
END:VEVENT
BEGIN:VEVENT
DTSTART;TZID=America/Chicago:20260618T190000
DTEND;TZID=America/Chicago:20260618T210000
DTSTAMP:20260423T212301
CREATED:20260309T193653Z
LAST-MODIFIED:20260309T193653Z
UID:10000161-1781809200-1781816400@dockandpaddle.com
SUMMARY:Jazz on the Prairie Big Band
DESCRIPTION:Jazz on the Prairie Big Band
URL:https://dockandpaddle.com/event/jazz-on-the-prairie-big-band/
LOCATION:Dock & Paddle\, 1360 Lexington Parkway North\, Saint Paul\, MN\, 55103\, United States
ATTACH;FMTTYPE=image/png:https://dockandpaddle.com/wp-content/uploads/2025/11/dock-and-paddle-logo-2X.png
END:VEVENT
BEGIN:VEVENT
DTSTART;TZID=America/Chicago:20260619T183000
DTEND;TZID=America/Chicago:20260619T203000
DTSTAMP:20260423T212301
CREATED:20260212T160014Z
LAST-MODIFIED:20260219T201550Z
UID:10000073-1781893800-1781901000@dockandpaddle.com
SUMMARY:Meat Raffle Tonight!
DESCRIPTION:Meat Raffle Tonight!
URL:https://dockandpaddle.com/event/meat-raffle-tonight/
LOCATION:Dock & Paddle\, 1360 Lexington Parkway North\, Saint Paul\, MN\, 55103\, United States
ATTACH;FMTTYPE=image/jpeg:https://dockandpaddle.com/wp-content/uploads/music-events/meat-raffle-tonight.jpg
END:VEVENT
BEGIN:VEVENT
DTSTART;TZID=America/Chicago:20260621T150000
DTEND;TZID=America/Chicago:20260621T170000
DTSTAMP:20260423T212301
CREATED:20260212T155829Z
LAST-MODIFIED:20260212T155830Z
UID:10000081-1782054000-1782061200@dockandpaddle.com
SUMMARY:Como Pops
DESCRIPTION:Como Pops
URL:https://dockandpaddle.com/event/como-pops/
LOCATION:Dock & Paddle\, 1360 Lexington Parkway North\, Saint Paul\, MN\, 55103\, United States
ATTACH;FMTTYPE=image/jpeg:https://dockandpaddle.com/wp-content/uploads/music-events/ComoPops.jpg
END:VEVENT
BEGIN:VEVENT
DTSTART;TZID=America/Chicago:20260621T190000
DTEND;TZID=America/Chicago:20260621T210000
DTSTAMP:20260423T212301
CREATED:20260212T155817Z
LAST-MODIFIED:20260212T155817Z
UID:10000082-1782068400-1782075600@dockandpaddle.com
SUMMARY:St. Anthony Civic Orchestra
DESCRIPTION:St. Anthony Civic Orchestra
URL:https://dockandpaddle.com/event/st-anthony-civic-orchestra/
LOCATION:Dock & Paddle\, 1360 Lexington Parkway North\, Saint Paul\, MN\, 55103\, United States
ATTACH;FMTTYPE=image/jpeg:https://dockandpaddle.com/wp-content/uploads/music-events/St-anthony-civic-orchestra.jpg
END:VEVENT
BEGIN:VEVENT
DTSTART;TZID=America/Chicago:20260622T190000
DTEND;TZID=America/Chicago:20260622T210000
DTSTAMP:20260423T212301
CREATED:20260212T155751Z
LAST-MODIFIED:20260212T155751Z
UID:10000083-1782154800-1782162000@dockandpaddle.com
SUMMARY:Bend in the River Big Band
DESCRIPTION:Bend in the River Big Band
URL:https://dockandpaddle.com/event/bend-in-the-river-big-band/
LOCATION:Dock & Paddle\, 1360 Lexington Parkway North\, Saint Paul\, MN\, 55103\, United States
ATTACH;FMTTYPE=image/gif:https://dockandpaddle.com/wp-content/uploads/music-events/BRBBlogo.gif
END:VEVENT
BEGIN:VEVENT
DTSTART;TZID=America/Chicago:20260623T190000
DTEND;TZID=America/Chicago:20260623T210000
DTSTAMP:20260423T212301
CREATED:20260212T155738Z
LAST-MODIFIED:20260219T184707Z
UID:10000084-1782241200-1782248400@dockandpaddle.com
SUMMARY:North Suburban Chorus
DESCRIPTION:North Suburban Chorus
URL:https://dockandpaddle.com/event/north-suburban-chorus/
LOCATION:Dock & Paddle\, 1360 Lexington Parkway North\, Saint Paul\, MN\, 55103\, United States
ATTACH;FMTTYPE=image/jpeg:https://dockandpaddle.com/wp-content/uploads/music-events/NSCPx-scaled.jpg
END:VEVENT
BEGIN:VEVENT
DTSTART;TZID=America/Chicago:20260624T190000
DTEND;TZID=America/Chicago:20260624T210000
DTSTAMP:20260423T212301
CREATED:20260212T155727Z
LAST-MODIFIED:20260212T155727Z
UID:10000085-1782327600-1782334800@dockandpaddle.com
SUMMARY:Valley Winds Community Concert Band
DESCRIPTION:Valley Winds Community Concert Band
URL:https://dockandpaddle.com/event/valley-winds-community-concert-band/
LOCATION:Dock & Paddle\, 1360 Lexington Parkway North\, Saint Paul\, MN\, 55103\, United States
ATTACH;FMTTYPE=image/jpeg:https://dockandpaddle.com/wp-content/uploads/music-events/Valley-Winds.jpg
END:VEVENT
BEGIN:VEVENT
DTSTART;TZID=America/Chicago:20260625T190000
DTEND;TZID=America/Chicago:20260625T210000
DTSTAMP:20260423T212301
CREATED:20260212T155716Z
LAST-MODIFIED:20260212T155716Z
UID:10000086-1782414000-1782421200@dockandpaddle.com
SUMMARY:Robbinsdale City Band
DESCRIPTION:Robbinsdale City Band
URL:https://dockandpaddle.com/event/robbinsdale-city-band/
LOCATION:Dock & Paddle\, 1360 Lexington Parkway North\, Saint Paul\, MN\, 55103\, United States
ATTACH;FMTTYPE=image/jpeg:https://dockandpaddle.com/wp-content/uploads/music-events/robbinsdale.jpg
END:VEVENT
BEGIN:VEVENT
DTSTART;TZID=America/Chicago:20260626T190000
DTEND;TZID=America/Chicago:20260626T210000
DTSTAMP:20260423T212301
CREATED:20260212T155705Z
LAST-MODIFIED:20260212T155705Z
UID:10000087-1782500400-1782507600@dockandpaddle.com
SUMMARY:Shakespeare in the Park
DESCRIPTION:Shakespeare in the Park
URL:https://dockandpaddle.com/event/shakespeare-in-the-park/
LOCATION:Dock & Paddle\, 1360 Lexington Parkway North\, Saint Paul\, MN\, 55103\, United States
ATTACH;FMTTYPE=image/png:https://dockandpaddle.com/wp-content/uploads/2025/11/dock-and-paddle-logo-2X.png
END:VEVENT
BEGIN:VEVENT
DTSTART;TZID=America/Chicago:20260628T173000
DTEND;TZID=America/Chicago:20260628T193000
DTSTAMP:20260423T212301
CREATED:20260212T155652Z
LAST-MODIFIED:20260212T155652Z
UID:10000088-1782667800-1782675000@dockandpaddle.com
SUMMARY:Star of the North Concert Band
DESCRIPTION:Star of the North Concert Band
URL:https://dockandpaddle.com/event/star-of-the-north-concert-band/
LOCATION:Dock & Paddle\, 1360 Lexington Parkway North\, Saint Paul\, MN\, 55103\, United States
ATTACH;FMTTYPE=image/jpeg:https://dockandpaddle.com/wp-content/uploads/music-events/Star-of-the-North.jpg
END:VEVENT
BEGIN:VEVENT
DTSTART;TZID=America/Chicago:20260629T190000
DTEND;TZID=America/Chicago:20260629T210000
DTSTAMP:20260423T212301
CREATED:20260212T155639Z
LAST-MODIFIED:20260212T155639Z
UID:10000089-1782759600-1782766800@dockandpaddle.com
SUMMARY:Moonlight Serenaders of Minnesota
DESCRIPTION:Moonlight Serenaders of Minnesota
URL:https://dockandpaddle.com/event/moonlight-serenaders-of-minnesota/
LOCATION:Dock & Paddle\, 1360 Lexington Parkway North\, Saint Paul\, MN\, 55103\, United States
ATTACH;FMTTYPE=image/jpeg:https://dockandpaddle.com/wp-content/uploads/music-events/moonlight.jpg
END:VEVENT
BEGIN:VEVENT
DTSTART;TZID=America/Chicago:20260630T190000
DTEND;TZID=America/Chicago:20260630T210000
DTSTAMP:20260423T212301
CREATED:20260212T155622Z
LAST-MODIFIED:20260212T155623Z
UID:10000090-1782846000-1782853200@dockandpaddle.com
SUMMARY:Twin Cities Trumpet Ensemble
DESCRIPTION:Twin Cities Trumpet Ensemble
URL:https://dockandpaddle.com/event/twin-cities-trumpet-ensemble/
LOCATION:Dock & Paddle\, 1360 Lexington Parkway North\, Saint Paul\, MN\, 55103\, United States
ATTACH;FMTTYPE=image/jpeg:https://dockandpaddle.com/wp-content/uploads/music-events/twin-cities-trumpet-ensemble.jpg
END:VEVENT
BEGIN:VEVENT
DTSTART;TZID=America/Chicago:20260701T190000
DTEND;TZID=America/Chicago:20260701T210000
DTSTAMP:20260423T212301
CREATED:20260212T155610Z
LAST-MODIFIED:20260312T154300Z
UID:10000091-1782932400-1782939600@dockandpaddle.com
SUMMARY:Mississippi River Brass Band
DESCRIPTION:Mississippi River Brass Band
URL:https://dockandpaddle.com/event/mississippi-river-brass-band/
LOCATION:Dock & Paddle\, 1360 Lexington Parkway North\, Saint Paul\, MN\, 55103\, United States
ATTACH;FMTTYPE=image/jpeg:https://dockandpaddle.com/wp-content/uploads/music-events/mississippi-river-brass-scaled.jpg
END:VEVENT
BEGIN:VEVENT
DTSTART;TZID=America/Chicago:20260703T190000
DTEND;TZID=America/Chicago:20260703T210000
DTSTAMP:20260423T212301
CREATED:20260212T155558Z
LAST-MODIFIED:20260212T155558Z
UID:10000092-1783105200-1783112400@dockandpaddle.com
SUMMARY:Crush Scene
DESCRIPTION:Crush Scene
URL:https://dockandpaddle.com/event/crush-scene/
LOCATION:Dock & Paddle\, 1360 Lexington Parkway North\, Saint Paul\, MN\, 55103\, United States
ATTACH;FMTTYPE=image/jpeg:https://dockandpaddle.com/wp-content/uploads/music-events/crush-scene.jpg
END:VEVENT
BEGIN:VEVENT
DTSTART;TZID=America/Chicago:20260704T120000
DTEND;TZID=America/Chicago:20260704T140000
DTSTAMP:20260423T212301
CREATED:20260212T155534Z
LAST-MODIFIED:20260219T192203Z
UID:10000094-1783166400-1783173600@dockandpaddle.com
SUMMARY:St. Anthony Park Community Band
DESCRIPTION:St. Anthony Park Community Band
URL:https://dockandpaddle.com/event/st-anthony-park-community-band/2026-07-04/
LOCATION:Dock & Paddle\, 1360 Lexington Parkway North\, Saint Paul\, MN\, 55103\, United States
ATTACH;FMTTYPE=image/jpeg:https://dockandpaddle.com/wp-content/uploads/music-events/st-anthony-park.jpg
END:VEVENT
BEGIN:VEVENT
DTSTART;TZID=America/Chicago:20260704T150000
DTEND;TZID=America/Chicago:20260704T170000
DTSTAMP:20260423T212301
CREATED:20260212T155545Z
LAST-MODIFIED:20260309T191117Z
UID:10000093-1783177200-1783184400@dockandpaddle.com
SUMMARY:Como Pops Ensemble
DESCRIPTION:Como Pops Ensemble
URL:https://dockandpaddle.com/event/como-pops-ensemble/2026-07-04/
LOCATION:Dock & Paddle\, 1360 Lexington Parkway North\, Saint Paul\, MN\, 55103\, United States
ATTACH;FMTTYPE=image/jpeg:https://dockandpaddle.com/wp-content/uploads/music-events/ComoPops-1.jpg
END:VEVENT
BEGIN:VEVENT
DTSTART;TZID=America/Chicago:20260705T140000
DTEND;TZID=America/Chicago:20260705T170000
DTSTAMP:20260423T212301
CREATED:20260309T192030Z
LAST-MODIFIED:20260311T183547Z
UID:10000157-1783260000-1783270800@dockandpaddle.com
SUMMARY:Buster Phelan
DESCRIPTION:Buster Phelan
URL:https://dockandpaddle.com/event/buster-phelan/
LOCATION:Dock & Paddle\, 1360 Lexington Parkway North\, Saint Paul\, MN\, 55103\, United States
ATTACH;FMTTYPE=image/png:https://dockandpaddle.com/wp-content/uploads/2025/11/dock-and-paddle-logo-2X.png
END:VEVENT
BEGIN:VEVENT
DTSTART;TZID=America/Chicago:20260706T190000
DTEND;TZID=America/Chicago:20260706T210000
DTSTAMP:20260423T212301
CREATED:20260212T155406Z
LAST-MODIFIED:20260212T155406Z
UID:10000095-1783364400-1783371600@dockandpaddle.com
SUMMARY:Brooklyn Park Community Band
DESCRIPTION:Brooklyn Park Community Band
URL:https://dockandpaddle.com/event/brooklyn-park-community-band/
LOCATION:Dock & Paddle\, 1360 Lexington Parkway North\, Saint Paul\, MN\, 55103\, United States
ATTACH;FMTTYPE=image/jpeg:https://dockandpaddle.com/wp-content/uploads/music-events/Brooklyn-Coomunity-Band.jpg
END:VEVENT
BEGIN:VEVENT
DTSTART;TZID=America/Chicago:20260707T190000
DTEND;TZID=America/Chicago:20260707T210000
DTSTAMP:20260423T212301
CREATED:20260212T155420Z
LAST-MODIFIED:20260212T155421Z
UID:10000096-1783450800-1783458000@dockandpaddle.com
SUMMARY:North Star Chorus
DESCRIPTION:North Star Chorus
URL:https://dockandpaddle.com/event/north-star-chorus/2026-07-07/
LOCATION:Dock & Paddle\, 1360 Lexington Parkway North\, Saint Paul\, MN\, 55103\, United States
ATTACH;FMTTYPE=image/jpeg:https://dockandpaddle.com/wp-content/uploads/music-events/North_Star_Chorus_Radiant.jpg
END:VEVENT
BEGIN:VEVENT
DTSTART;TZID=America/Chicago:20260708T190000
DTEND;TZID=America/Chicago:20260708T210000
DTSTAMP:20260423T212301
CREATED:20260212T155351Z
LAST-MODIFIED:20260212T155351Z
UID:10000098-1783537200-1783544400@dockandpaddle.com
SUMMARY:Saints of Swing Big Band
DESCRIPTION:Saints of Swing Big Band
URL:https://dockandpaddle.com/event/saints-of-swing-big-band/
LOCATION:Dock & Paddle\, 1360 Lexington Parkway North\, Saint Paul\, MN\, 55103\, United States
ATTACH;FMTTYPE=image/jpeg:https://dockandpaddle.com/wp-content/uploads/music-events/saints-of-swing.jpg
END:VEVENT
BEGIN:VEVENT
DTSTART;VALUE=DATE:20260709
DTEND;VALUE=DATE:20260710
DTSTAMP:20260423T212301
CREATED:20260212T155339Z
LAST-MODIFIED:20260212T155339Z
UID:10000099-1783555200-1783641599@dockandpaddle.com
SUMMARY:Pavilion Closed for Private Event
DESCRIPTION:Pavilion Closed for Private event
URL:https://dockandpaddle.com/event/pavilion-closed-for-private-event-2/
LOCATION:Dock & Paddle\, 1360 Lexington Parkway North\, Saint Paul\, MN\, 55103\, United States
ATTACH;FMTTYPE=image/png:https://dockandpaddle.com/wp-content/uploads/2025/11/dock-and-paddle-logo-2X.png
END:VEVENT
BEGIN:VEVENT
DTSTART;TZID=America/Chicago:20260710T190000
DTEND;TZID=America/Chicago:20260710T210000
DTSTAMP:20260423T212301
CREATED:20260212T161607Z
LAST-MODIFIED:20260212T161607Z
UID:10000100-1783710000-1783717200@dockandpaddle.com
SUMMARY:Roestown Playhouse Summer Musical
DESCRIPTION:Rosetown Playhouse Summer Musical
URL:https://dockandpaddle.com/event/roestown-playhouse-summer-musical/2026-07-10/
LOCATION:Dock & Paddle\, 1360 Lexington Parkway North\, Saint Paul\, MN\, 55103\, United States
ATTACH;FMTTYPE=image/jpeg:https://dockandpaddle.com/wp-content/uploads/music-events/Rosetown.jpg
END:VEVENT
END:VCALENDAR