BEGIN:VCALENDAR
VERSION:2.0
PRODID:-//Dock &amp; Paddle | Como Lakeside Pavilion - ECPv6.15.17.1//NONSGML v1.0//EN
CALSCALE:GREGORIAN
METHOD:PUBLISH
X-WR-CALNAME:Dock &amp; Paddle | Como Lakeside Pavilion
X-ORIGINAL-URL:https://dockandpaddle.com
X-WR-CALDESC:Events for Dock &amp; Paddle | Como Lakeside Pavilion
REFRESH-INTERVAL;VALUE=DURATION:PT1H
X-Robots-Tag:noindex
X-PUBLISHED-TTL:PT1H
BEGIN:VTIMEZONE
TZID:America/Chicago
BEGIN:DAYLIGHT
TZOFFSETFROM:-0600
TZOFFSETTO:-0500
TZNAME:CDT
DTSTART:20250309T080000
END:DAYLIGHT
BEGIN:STANDARD
TZOFFSETFROM:-0500
TZOFFSETTO:-0600
TZNAME:CST
DTSTART:20251102T070000
END:STANDARD
BEGIN:DAYLIGHT
TZOFFSETFROM:-0600
TZOFFSETTO:-0500
TZNAME:CDT
DTSTART:20260308T080000
END:DAYLIGHT
BEGIN:STANDARD
TZOFFSETFROM:-0500
TZOFFSETTO:-0600
TZNAME:CST
DTSTART:20261101T070000
END:STANDARD
BEGIN:DAYLIGHT
TZOFFSETFROM:-0600
TZOFFSETTO:-0500
TZNAME:CDT
DTSTART:20270314T080000
END:DAYLIGHT
BEGIN:STANDARD
TZOFFSETFROM:-0500
TZOFFSETTO:-0600
TZNAME:CST
DTSTART:20271107T070000
END:STANDARD
END:VTIMEZONE
BEGIN:VEVENT
DTSTART;TZID=America/Chicago:20260307T120000
DTEND;TZID=America/Chicago:20260307T150000
DTSTAMP:20260421T040202
CREATED:20251203T212434Z
LAST-MODIFIED:20251204T212900Z
UID:10000026-1772884800-1772895600@dockandpaddle.com
SUMMARY:Open Mic
DESCRIPTION:Join us for Open Mic inside Dock & Paddle from 12:00pm–3:00pm! \nAll are welcome — sign-up begins at 11:30am. Whether you’re a musician\, poet\, or just love supporting local talent\, we’d love to have you.
URL:https://dockandpaddle.com/event/open-mic/2026-03-07/
LOCATION:Dock & Paddle\, 1360 Lexington Parkway North\, Saint Paul\, MN\, 55103\, United States
CATEGORIES:Music,Open Mic
ATTACH;FMTTYPE=image/png:https://dockandpaddle.com/wp-content/uploads/music-events/open-mic.png
END:VEVENT
BEGIN:VEVENT
DTSTART;TZID=America/Chicago:20260314T150000
DTEND;TZID=America/Chicago:20260314T160000
DTSTAMP:20260421T040202
CREATED:20251201T224617Z
LAST-MODIFIED:20260309T010533Z
UID:10000013-1773500400-1773504000@dockandpaddle.com
SUMMARY:The Fairlanes - St. Patrick's Day Show
DESCRIPTION:The Fairlanes have been delighting audiences for more than 20 years\, with a unique blend of doo-wop\, R & B\, and pop songs from the Fifties and Sixties. The quartet’s sweet a-cappella sound invites listeners to sing along with their favorite tunes. The Fairlanes perform throughout the year for audiences all over the Twin Cities metro area and beyond.
URL:https://dockandpaddle.com/event/the-fairlanes-st-patricks-day-show/
LOCATION:Dock & Paddle\, 1360 Lexington Parkway North\, Saint Paul\, MN\, 55103\, United States
CATEGORIES:Music
ATTACH;FMTTYPE=image/jpeg:https://dockandpaddle.com/wp-content/uploads/2025/12/The-Fairlanes.jpg
END:VEVENT
BEGIN:VEVENT
DTSTART;TZID=America/Chicago:20260315T130000
DTEND;TZID=America/Chicago:20260315T150000
DTSTAMP:20260421T040202
CREATED:20260314T235230Z
LAST-MODIFIED:20260314T235231Z
UID:10000036-1773579600-1773586800@dockandpaddle.com
SUMMARY:Silk & Sandpaper
DESCRIPTION:Silk & Sandpaper delivers smooth vocals\, sharp instrumentals\, and a set list that spans rock\, blues\, jazz\, Motown\, country\, and more. Dale Dahlquist and Kathleen Conger bring lively energy and versatile musicianship to every performance—perfect for anyone who loves great live music.
URL:https://dockandpaddle.com/event/silk-sandpaper-2/
LOCATION:Dock & Paddle\, 1360 Lexington Parkway North\, Saint Paul\, MN\, 55103\, United States
CATEGORIES:Music
ATTACH;FMTTYPE=image/jpeg:https://dockandpaddle.com/wp-content/uploads/2025/12/Silk-Sandpaper.jpg
END:VEVENT
BEGIN:VEVENT
DTSTART;TZID=America/Chicago:20260321T120000
DTEND;TZID=America/Chicago:20260321T150000
DTSTAMP:20260421T040202
CREATED:20251203T212434Z
LAST-MODIFIED:20251204T212900Z
UID:10000027-1774094400-1774105200@dockandpaddle.com
SUMMARY:Open Mic
DESCRIPTION:Join us for Open Mic inside Dock & Paddle from 12:00pm–3:00pm! \nAll are welcome — sign-up begins at 11:30am. Whether you’re a musician\, poet\, or just love supporting local talent\, we’d love to have you.
URL:https://dockandpaddle.com/event/open-mic/2026-03-21/
LOCATION:Dock & Paddle\, 1360 Lexington Parkway North\, Saint Paul\, MN\, 55103\, United States
CATEGORIES:Music,Open Mic
ATTACH;FMTTYPE=image/png:https://dockandpaddle.com/wp-content/uploads/music-events/open-mic.png
END:VEVENT
BEGIN:VEVENT
DTSTART;TZID=America/Chicago:20260322T150000
DTEND;TZID=America/Chicago:20260322T170000
DTSTAMP:20260421T040202
CREATED:20251201T220545Z
LAST-MODIFIED:20251204T212746Z
UID:10000032-1774191600-1774198800@dockandpaddle.com
SUMMARY:Paul Seeba
DESCRIPTION:Don’t miss Paul Seeba live! 🎶 \nEmmy-featured songwriter. Indie/rock/folk blend. Northern Minnesota stories with heart. His latest album Votive earned international praise—come hear why.
URL:https://dockandpaddle.com/event/paul-seeba/2026-03-22/
LOCATION:Dock & Paddle\, 1360 Lexington Parkway North\, Saint Paul\, MN\, 55103\, United States
CATEGORIES:Music
ATTACH;FMTTYPE=image/jpeg:https://dockandpaddle.com/wp-content/uploads/2025/12/paulseeba.jpg
END:VEVENT
BEGIN:VEVENT
DTSTART;TZID=America/Chicago:20260328T130000
DTEND;TZID=America/Chicago:20260328T150000
DTSTAMP:20260421T040202
CREATED:20251201T223102Z
LAST-MODIFIED:20260109T214908Z
UID:10000040-1774702800-1774710000@dockandpaddle.com
SUMMARY:ForEver Young
DESCRIPTION:ForEver Young is a talented duo performing an eclectic mix of swing\, pop\, classic rock\, country\, and smooth jazz. Enjoy a comfortable\, feel-good performance filled with songs you’ll recognize and rhythms you’ll love.
URL:https://dockandpaddle.com/event/forever-young/2026-03-28/
LOCATION:Dock & Paddle\, 1360 Lexington Parkway North\, Saint Paul\, MN\, 55103\, United States
CATEGORIES:Music
ATTACH;FMTTYPE=image/jpeg:https://dockandpaddle.com/wp-content/uploads/2025/12/ForEver-Young-Band.jpg
END:VEVENT
END:VCALENDAR